BEGIN:VCALENDAR
VERSION:2.0
PRODID:icalendar-ruby
CALSCALE:GREGORIAN
METHOD:PUBLISH
BEGIN:VEVENT
DTSTAMP:20260420T045636Z
UID:24-16372004@marinapacificafellowship.com
DTSTART:20261021T190000Z
DTEND:20261021T203000Z
CLASS:PUBLIC
CREATED:20260419T192827
DESCRIPTION:This is our weekly nooner birthday celebration and open discuss
 ion meeting of Alcoholics Anonymous.\nThis meeting is in-person only at ou
 r fellowship hall which is listed below.\nTo donate to this meeting\, plea
 se click on the green 7th Tradition button. Our online payment system allo
 ws you to create your own login and track your contributions\, change form
 s of payment\, make recurring donations and add your information to receiv
 e news and announcements about our organization.\n7th Tradition\n\n\n\n\nv
 ar tw = create_tithely_widget()\;\n\n
LAST-MODIFIED:20260419T192827
LOCATION:In-Person
SUMMARY:Wednesday 12PM - AA
URL;VALUE=URI:https://marinapacificafellowship.com/events/wednesday-12pm-aa
 /2026-10-21
ATTACH;FILENAME=AA Logo.png (9).png;FMTTYPE=image/png:https://dq5pwpg1q8ru0
 .cloudfront.net/2021/07/20/10/01/36/245ecda9-c5af-4bda-8f54-43eea6c16443/A
 A%20Logo.png%20(9).png
ATTACH;FILENAME=Wed 12PM.pdf;FMTTYPE=application/pdf:https://dq5pwpg1q8ru0.
 cloudfront.net/2021/07/20/10/01/36/e0158cfd-a40b-4bf2-aa64-f625a981a8fc/We
 d%2012PM.pdf
END:VEVENT
END:VCALENDAR
