BEGIN:VCALENDAR
VERSION:2.0
PRODID:icalendar-ruby
CALSCALE:GREGORIAN
METHOD:PUBLISH
BEGIN:VEVENT
DTSTAMP:20260424T213550Z
UID:27-16676717@marinapacificafellowship.com
DTSTART:20261028T030000Z
DTEND:20261028T040000Z
CLASS:PUBLIC
CREATED:20260424T124956
DESCRIPTION:The Monday 8PM Meeting of Alcoholics Anonymous is a Participati
 on/Discussion Meeting.\nThis meeting is In-Person only.  To attend in per
 son please go to the fellowship hall address listed below.\nTo donate to t
 his meeting\, please click on the green 7th Tradition button. Our online p
 ayment system allows you to create your own login and track your contribut
 ions\, change forms of payment\, make recurring donations and add your inf
 ormation to receive news and announcements about our organization.\n7th Tr
 adition\n\n\n\n\nvar tw = create_tithely_widget()\;\n\n\n​
LAST-MODIFIED:20260424T124956
LOCATION:In-Person
SUMMARY:Tuesday 8PM - AA
URL;VALUE=URI:https://marinapacificafellowship.com/events/tuesday-8pm-aa/20
 26-10-27
ATTACH;FILENAME=AA Logo.png (13).png;FMTTYPE=image/png:https://dq5pwpg1q8ru
 0.cloudfront.net/2021/07/20/10/42/37/fc2a51c9-75cf-471e-b890-9e993fd12e25/
 AA%20Logo.png%20(13).png
END:VEVENT
END:VCALENDAR
