BEGIN:VCALENDAR
VERSION:2.0
PRODID:icalendar-ruby
CALSCALE:GREGORIAN
METHOD:PUBLISH
BEGIN:VEVENT
DTSTAMP:20260424T154006Z
UID:37-16657614@marinapacificafellowship.com
DTSTART:20261016T023000Z
DTEND:20261016T030000Z
CLASS:PUBLIC
CREATED:20260424T071438
DESCRIPTION:This meeting is in-person only at our fellowship hall.\nFor dir
 ections\, please see the map below.\n
LAST-MODIFIED:20260424T071438
LOCATION:In-Person
SUMMARY:Thursday 7:30PM - AA
URL;VALUE=URI:https://marinapacificafellowship.com/events/thursday-7-30pm-a
 a/2026-10-15
ATTACH;FILENAME=PngItem_763029.png;FMTTYPE=image/png:https://dq5pwpg1q8ru0.
 cloudfront.net/2022/09/02/07/32/37/6f4a2c09-e309-43c0-ab3c-e0c9ff697d14/Pn
 gItem_763029.png
END:VEVENT
END:VCALENDAR
