BEGIN:VCALENDAR
VERSION:2.0
PRODID:icalendar-ruby
CALSCALE:GREGORIAN
METHOD:PUBLISH
BEGIN:VEVENT
DTSTAMP:20260421T074138Z
UID:38-16448201@marinapacificafellowship.com
DTSTART:20261016T050500Z
DTEND:20261016T060500Z
CLASS:PUBLIC
CREATED:20260420T170510
DESCRIPTION:This meeting is in-person only at our fellowship hall.\nFor dir
 ections please see the map below.\nTo donate to this meeting\, please clic
 k on the green 7th Tradition button. Our online payment system allows you 
 to create your own login and track your contributions\, change forms of pa
 yment\, make recurring donations and add your information to receive news 
 and announcements about our organization.\n7th Tradition\n\n\n\n\nvar tw =
  create_tithely_widget()\;\n\n
LAST-MODIFIED:20260420T170510
LOCATION:In-Person
SUMMARY:Thursday 10:08PM - AA
URL;VALUE=URI:https://marinapacificafellowship.com/events/thursday-10-08pm-
 aa/2026-10-15
ATTACH;FILENAME=PngItem_763029.png;FMTTYPE=image/png:https://dq5pwpg1q8ru0.
 cloudfront.net/2022/09/02/07/33/03/347fe0d7-e3e2-47d3-97c9-51e4ef0a24a3/Pn
 gItem_763029.png
END:VEVENT
END:VCALENDAR
