BEGIN:VCALENDAR
VERSION:2.0
PRODID:icalendar-ruby
CALSCALE:GREGORIAN
METHOD:PUBLISH
BEGIN:VEVENT
DTSTAMP:20260421T160256Z
UID:47-16470255@marinapacificafellowship.com
DTSTART:20261012T020000Z
DTEND:20261012T030000Z
CLASS:PUBLIC
CREATED:20260421T064710
DESCRIPTION:Crackin' the Big Book is an Alcoholics Anonymous Big Book study
  format that meets every Sunday at 7:00 PM until 8:00 PM.\nThis meeting is
  In-Person and Online. To attend in person please go to the fellowship hal
 l address listed below. To attend online click on the blue Zoom button bel
 ow.\n\nZOOM\nTo donate to this meeting\, please click on the green 7th Tra
 dition button. Our online payment system allows you to create your own log
 in and track your contributions\, change forms of payment\, make recurring
  donations and add your information to receive news and announcements abou
 t our organization.\n7th Tradition\n\n\n\n\n\nvar tw = create_tithely_widg
 et()\;\n\n\n
LAST-MODIFIED:20260421T064710
LOCATION:Online & In-Person
SUMMARY:Sunday 7PM - Crackin' the Big Book
URL;VALUE=URI:https://marinapacificafellowship.com/events/sunday-7pm-cracki
 n-the-big-book/2026-10-11
ATTACH;FILENAME=PngItem_763029.png;FMTTYPE=image/png:https://dq5pwpg1q8ru0.
 cloudfront.net/2025/05/01/19/19/13/8915331a-c302-4487-8a70-da71edab3440/Pn
 gItem_763029.png
END:VEVENT
END:VCALENDAR
