BEGIN:VCALENDAR
VERSION:2.0
PRODID:icalendar-ruby
CALSCALE:GREGORIAN
METHOD:PUBLISH
BEGIN:VEVENT
DTSTAMP:20260420T174155Z
UID:46-16417861@marinapacificafellowship.com
DTSTART:20261017T163000Z
DTEND:20261017T173000Z
CLASS:PUBLIC
CREATED:20260420T091955
DESCRIPTION:This meeting is for Al-Anon and AA participants and is held in-
 person at our fellowship hall located below.\nTo donate to this meeting\, 
 please click on the green 7th Tradition button. Our online payment system 
 allows you to create your own login and track your contributions\, change 
 forms of payment\, make recurring donations and add your information to re
 ceive news and announcements about our organization.\n7th Tradition\n\n\n
LAST-MODIFIED:20260420T091955
LOCATION:In-Person
SUMMARY:Saturday 9:30AM - Double Winners
URL;VALUE=URI:https://marinapacificafellowship.com/events/saturday-9-30am-d
 ouble-winners/2026-10-17
ATTACH;FILENAME=Double-Winners-Logo.png;FMTTYPE=image/png:https://dq5pwpg1q
 8ru0.cloudfront.net/2025/04/11/20/25/52/5ba58287-7830-46de-aefb-0c6e20aebc
 19/Double-Winners-Logo.png
ATTACH;FILENAME=Double Winners Logo.png;FMTTYPE=image/png:https://dq5pwpg1q
 8ru0.cloudfront.net/2025/04/11/20/25/52/552b710a-26c8-4053-b100-7e2c4e16cc
 47/Double%20Winners%20Logo.png
END:VEVENT
END:VCALENDAR
