BEGIN:VCALENDAR
VERSION:2.0
PRODID:icalendar-ruby
CALSCALE:GREGORIAN
METHOD:PUBLISH
BEGIN:VEVENT
DTSTAMP:20260420T163715Z
UID:39-16417021@marinapacificafellowship.com
DTSTART:20261024T010000Z
DTEND:20261026T023000Z
CLASS:PUBLIC
CREATED:20260420T091952
DESCRIPTION:This meeting is In-Person only at our fellowship hall.\nFor dir
 ections\, please see the map below.\nTo donate to this meeting\, please cl
 ick on the green 7th Tradition button. Our online payment system allows yo
 u to create your own login and track your contributions\, change forms of 
 payment\, make recurring donations and add your information to receive new
 s and announcements about our organization.\n7th Tradition\n\n\n\nvar tw =
  create_tithely_widget()\;\n\n\n
LAST-MODIFIED:20260420T091952
LOCATION:In-Person
SUMMARY:Friday 6PM - Grace of God
URL;VALUE=URI:https://marinapacificafellowship.com/events/friday-6pm-grace-
 of-god/2026-10-23
ATTACH;FILENAME=PngItem_763029.png;FMTTYPE=image/png:https://dq5pwpg1q8ru0.
 cloudfront.net/2022/09/02/07/26/30/d447a11c-06dd-4161-92ef-cd13f3c03f74/Pn
 gItem_763029.png
END:VEVENT
END:VCALENDAR
